BEGIN:VCALENDAR
VERSION:2.0
PRODID:-//Altes Spital &quot;Spittel&quot; Arnstadt - ECPv5.0.0//NONSGML v1.0//EN
CALSCALE:GREGORIAN
METHOD:PUBLISH
X-WR-CALNAME:Altes Spital &quot;Spittel&quot; Arnstadt
X-ORIGINAL-URL:https://www.spital-arnstadt.de
X-WR-CALDESC:Veranstaltungen im Altes Spital &quot;Spittel&quot; Arnstadt
BEGIN:VTIMEZONE
TZID:Europe/Helsinki
BEGIN:DAYLIGHT
TZOFFSETFROM:+0200
TZOFFSETTO:+0300
TZNAME:EEST
DTSTART:20160327T010000
END:DAYLIGHT
BEGIN:STANDARD
TZOFFSETFROM:+0300
TZOFFSETTO:+0200
TZNAME:EET
DTSTART:20161030T010000
END:STANDARD
END:VTIMEZONE
BEGIN:VEVENT
DTSTART;TZID=Europe/Helsinki:20160219T200000
DTEND;TZID=Europe/Helsinki:20160219T230000
DTSTAMP:20260421T075223
CREATED:20160207T165152Z
LAST-MODIFIED:20160207T165152Z
UID:616-1455912000-1455922800@www.spital-arnstadt.de
SUMMARY:Konzert
DESCRIPTION:Konzert mit WeCookWithFire und neuen Songs \n
URL:https://www.spital-arnstadt.de/veranstaltungen/konzert/
LOCATION:Spittelbar
END:VEVENT
END:VCALENDAR